BEGIN:VCALENDAR
VERSION:2.0
PRODID:-//jEvents 2.0 for Joomla//EN
CALSCALE:GREGORIAN
METHOD:PUBLISH
BEGIN:VEVENT
UID:1f187e1aa271a6fde91eb1f5bd57e94e
CATEGORIES:Focus Sessions
CREATED:20251122T152544
SUMMARY:Zauberkunst mit Tüchern
DESCRIPTION: Dozentin: Svend Steinangel  Tücher sind ein magisches Powertool für elegan
 te und fulminante Magie.Mit ihnen ist eine große Bandbreite an großspielend
 en Effekten möglich. Wir lernen die Finessen von Tuchfärbungen, Erscheinen 
 und Verschwinden von Tüchern, Verwandlungen, Produktionen von Objekten aus 
 einem Tuch sowie den Umgang mit entsprechenden Hilfsmitteln. Das Highlight:
  Eines der umwerfendsten Kunststücke der gesamten Zauberkunst: Die Knotenwa
 nderung.Kosten: 60€\nAnmeldung: Diese E-Mail-Adresse ist vor Spambots gesch
 ützt! Zur Anzeige muss JavaScript eingeschaltet sein.\n
X-ALT-DESC;FMTTYPE=text/html:<div>&nbsp;<strong>Dozentin:</strong>&nbsp;Svend Steinangel</div><div>&nbsp
 ;</div><div>&nbsp;Tücher sind ein magisches Powertool für elegante und fulm
 inante Magie.</div><div>Mit ihnen ist eine große Bandbreite an großspielend
 en Effekten möglich.</div><div>&nbsp;</div><div>Wir lernen die Finessen von
  Tuchfärbungen, Erscheinen und Verschwinden von Tüchern, Verwandlungen, Pro
 duktionen von Objekten aus einem Tuch sowie den Umgang mit entsprechenden H
 ilfsmitteln.</div><div>&nbsp;</div><div>Das Highlight: Eines der umwerfends
 ten Kunststücke der gesamten Zauberkunst: Die Knotenwanderung.</div><p><str
 ong>Kosten:</strong>&nbsp;60€</p><p><strong>Anmeldung:&nbsp;</strong><jooml
 a-hidden-mail  is-link="1" is-email="1" first="ZWxpc2E=" last="emF1YmVyYWth
 ZGVtaWUuY29t" text="ZWxpc2FAemF1YmVyYWthZGVtaWUuY29t" base="" >Diese E-Mail
 -Adresse ist vor Spambots geschützt! Zur Anzeige muss JavaScript eingeschal
 tet sein.</joomla-hidden-mail></p>
DTSTAMP:20260423T155812
DTSTART:20270120T180000
DTEND:20270120T200000
SEQUENCE:0
TRANSP:OPAQUE
END:VEVENT
END:VCALENDAR