BEGIN:VCALENDAR
VERSION:2.0
PRODID:-//jEvents 2.0 for Joomla//EN
CALSCALE:GREGORIAN
METHOD:PUBLISH
BEGIN:VEVENT
UID:a9a9616c5543321c5a60ce577edd3d48
CATEGORIES:Masterclasses
CREATED:20251122T151936
SUMMARY:Manipulation
DESCRIPTION: Dozent: Miles Pitwell\n\nBeschreibung folgt.\nTeilnehmerInnen: max. 12\nKo
 sten: 140€\nAnmeldung: Diese E-Mail-Adresse ist vor Spambots geschützt! Zur
  Anzeige muss JavaScript eingeschaltet sein.\n
X-ALT-DESC;FMTTYPE=text/html:<div>&nbsp;</div><p><strong>Dozent:</strong>&nbsp;Miles Pitwell</p><p><br /
 >Beschreibung folgt.</p><p><strong>TeilnehmerInnen:</strong>&nbsp;max. 12</
 p><p><strong>Kosten:&nbsp;</strong>140€</p><p><strong>Anmeldung:</strong>&n
 bsp;<joomla-hidden-mail  is-link="1" is-email="1" first="ZWxpc2E=" last="em
 F1YmVyYWthZGVtaWUuY29t" text="ZWxpc2FAemF1YmVyYWthZGVtaWUuY29t" base="" >Di
 ese E-Mail-Adresse ist vor Spambots geschützt! Zur Anzeige muss JavaScript 
 eingeschaltet sein.</joomla-hidden-mail></p>
DTSTAMP:20260423T171855
DTSTART:20270306T120000
DTEND:20270306T170000
SEQUENCE:0
TRANSP:OPAQUE
END:VEVENT
END:VCALENDAR