BEGIN:VCALENDAR
VERSION:2.0
PRODID:-//jEvents 2.0 for Joomla//EN
CALSCALE:GREGORIAN
METHOD:PUBLISH
BEGIN:VEVENT
UID:e2c7041aa41d288ad8ea0eaa1f1b4375
CATEGORIES:Jugendliche/Erwachsene
CREATED:20251122T143422
SUMMARY:Start 3. Semester // Wintersemester 2026
DESCRIPTION:<div>&nbsp;Hauptstudium an der ZauberAkademie Deutschland - erster Tag des 
 3. Semesters.</div><p><strong>Anmeldung:</strong>&nbsp;<joomla-hidden-mail 
  is-link="1" is-email="1" first="aW5mbw==" last="emF1YmVyYWthZGVtaWUuY29t" 
 text="aW5mb0B6YXViZXJha2FkZW1pZS5jb20=" base="" >Diese E-Mail-Adresse ist v
 or Spambots geschützt! Zur Anzeige muss JavaScript eingeschaltet sein.</joo
 mla-hidden-mail>&nbsp;</p>
DTSTAMP:20260424T134642
DTSTART:20260922T170000
DTEND:20260922T190000
SEQUENCE:0
TRANSP:OPAQUE
END:VEVENT
END:VCALENDAR