BEGIN:VCALENDAR
VERSION:2.0
PRODID:-//jEvents 2.0 for Joomla//EN
CALSCALE:GREGORIAN
METHOD:PUBLISH
BEGIN:VEVENT
UID:0645f316de77f0230284a03faa1a103a
CATEGORIES:Shows / Events
CREATED:20251122T142735
SUMMARY:SHOWTIME: MAGIC
DESCRIPTION:AUSVERKAUFT!\n Der Projektabend der ZauberAkademie Deutschland. Am Projekta
 bend „Showtime: Magic“ des 3. Semesters treten die angehenden Magierinnen u
 nd Magier der Zauberakademie Deutschland ins Rampenlicht, um ihr Können unt
 er Beweis zu stellen. Erleben Sie 11 unterschiedliche Charaktere in einer v
 ielfältigen Show voller Illusionen, Wunder und überraschender Momente.Live,
  hautnah und einzigartig. Tresor Vinum PullachEintritt: 18 € // Kinder (unt
 er 12): 14 € // Freie Platzwahl Limitierte Plätze. Jetzt gleich reservieren
  unter Diese E-Mail-Adresse ist vor Spambots geschützt! Zur Anzeige muss Ja
 vaScript eingeschaltet sein.
X-ALT-DESC;FMTTYPE=text/html:<div><span style="color: #ff0000;"><strong><span style="color: #ff0000;">AU
 SVERKAUFT!</span><br /></strong></span></div><div>&nbsp;</div><div>Der Proj
 ektabend der ZauberAkademie Deutschland.</div><div>&nbsp;</div><div>Am Proj
 ektabend „Showtime: Magic“ des 3. Semesters treten die angehenden Magierinn
 en und Magier der Zauberakademie Deutschland ins Rampenlicht, um ihr Können
  unter Beweis zu stellen.</div><div>&nbsp;</div><div>Erleben Sie 11 untersc
 hiedliche Charaktere in einer vielfältigen Show voller Illusionen, Wunder u
 nd überraschender Momente.</div><div>Live, hautnah und einzigartig.</div><d
 iv>&nbsp;</div><div>Tresor Vinum Pullach</div><div>Eintritt: 18 € // Kinder
  (unter 12): 14 € // Freie Platzwahl</div><div>&nbsp;</div><div>Limitierte 
 Plätze.</div><div>&nbsp;</div><div>Jetzt gleich reservieren unter <joomla-h
 idden-mail  is-link="1" is-email="1" first="ZWxpc2E=" last="emF1YmVyYWthZGV
 taWUuY29t" text="ZWxpc2FAemF1YmVyYWthZGVtaWUuY29t" base="" >Diese E-Mail-Ad
 resse ist vor Spambots geschützt! Zur Anzeige muss JavaScript eingeschaltet
  sein.</joomla-hidden-mail></div>
DTSTAMP:20260423T163256
DTSTART:20260208T170000
DTEND:20260208T210000
SEQUENCE:0
TRANSP:OPAQUE
END:VEVENT
END:VCALENDAR