BEGIN:VCALENDAR
VERSION:2.0
PRODID:-//jEvents 2.0 for Joomla//EN
CALSCALE:GREGORIAN
METHOD:PUBLISH
BEGIN:VEVENT
UID:79e80cdb28e1f8313fd1a4d49354592c
CATEGORIES:Jugendliche/Erwachsene
CREATED:20251122T140951
SUMMARY:Zauberkurs Erwachsene Anfänger
DESCRIPTION:<div>Lernen Sie wichtige Grundgriffe und verblüffende Tricks an einem wunde
 rvoll-magischen Wochenende.</div><p>Dieser Kurs ist auch für alle geeignet,
  die sich einen Einstieg ins Studium überlegen.</p><p class="p2"><strong>Ko
 sten: 140,-&nbsp;</strong>€ inkl. Material und Skript mit Videolinks</p><p>
 <strong>Anmeldung:&nbsp;</strong><joomla-hidden-mail  is-link="1" is-email=
 "1" first="ZWxpc2E=" last="emF1YmVyYWthZGVtaWUuY29t" text="ZWxpc2FAemF1YmVy
 YWthZGVtaWUuY29t" base="" >Diese E-Mail-Adresse ist vor Spambots geschützt!
  Zur Anzeige muss JavaScript eingeschaltet sein.</joomla-hidden-mail></p>
DTSTAMP:20260423T161242
DTSTART:20270411T110000
DTEND:20270411T160000
SEQUENCE:0
TRANSP:OPAQUE
END:VEVENT
END:VCALENDAR