BEGIN:VCALENDAR
VERSION:2.0
PRODID:-//jEvents 2.0 for Joomla//EN
CALSCALE:GREGORIAN
METHOD:PUBLISH
BEGIN:VEVENT
UID:ade55c8f99e411702bae4e4cc79dd983
CATEGORIES:Jugendliche/Erwachsene
CREATED:20251122T140826
SUMMARY:Zauberkurs Jugendliche Grundlagen
DESCRIPTION:\nLernen Sie wichtige Grundgriffe und verblüffende Tricks an einem wundervo
 ll-magischen Wochenende.\n\nDieser Kurs ist auch für alle geeignet, die sic
 h einen Einstieg ins Studium überlegen.\n\nAlter: 13 bis 21 Jahren\n\n\n\nK
 osten: 140,- € inkl. Material und Skript mit Videolinks\n\nAnmeldung:Diese 
 E-Mail-Adresse ist vor Spambots geschützt! Zur Anzeige muss JavaScript eing
 eschaltet sein.\n \n
X-ALT-DESC;FMTTYPE=text/html:<p class="p2"></p><p>Lernen Sie wichtige Grundgriffe und verblüffende Trick
 s an einem wundervoll-magischen Wochenende.</p><p class="p2"></p><p>Dieser 
 Kurs ist auch für alle geeignet, die sich einen Einstieg ins Studium überle
 gen.</p><p class="p2"></p><p><strong>Alter:</strong>&nbsp;13 bis 21 Jahren<
 /p><p class="p2"></p><p class="p2"></p><p class="p2"></p><p class="p2"><str
 ong>Kosten: 140,-&nbsp;</strong>€ inkl. Material und Skript mit Videolinks<
 /p><p class="p2"></p><p><strong>Anmeldung:</strong><joomla-hidden-mail  is-
 link="1" is-email="1" first="ZWxpc2E=" last="emF1YmVyYWthZGVtaWUuY29t" text
 ="ZWxpc2FAemF1YmVyYWthZGVtaWUuY29t" base="" >Diese E-Mail-Adresse ist vor S
 pambots geschützt! Zur Anzeige muss JavaScript eingeschaltet sein.</joomla-
 hidden-mail></p><p>&nbsp;</p>
DTSTAMP:20260423T172954
DTSTART:20270410T110000
DTEND:20270410T160000
SEQUENCE:0
TRANSP:OPAQUE
END:VEVENT
END:VCALENDAR