BEGIN:VCALENDAR
VERSION:2.0
PRODID:-//jEvents 2.0 for Joomla//EN
CALSCALE:GREGORIAN
METHOD:PUBLISH
BEGIN:VEVENT
UID:7d589e6be722d99aae3503cdab78d12c
CATEGORIES:Masterclasses
CREATED:20251118T114737
SUMMARY:Ballonmodellieren NEXT LEVEL
DESCRIPTION:<div>&nbsp;<strong>Dozent:</strong>&nbsp;Tobi van Deisner //&nbsp;<a href="
 https://www.tobivandeisner.de">www.tobivandeisner.de</a></div><p>Entdecken 
 Sie die moderne Kunst des Ballonmodellierens mit Tobi van Deisner, dem&nbsp
 ;<em data-start="163" data-end="205">European Balloon Entertainer of the Ye
 ar</em>&nbsp;und Guinness-Weltrekordhalter. Bekannt aus dem Halbfinale von 
 „Das Supertalent“ und mit Auftritten in über 48 Ländern, bringt Tobi frisch
 en Wind in die Ballonkunst.</p><p class="" data-start="372" data-end="400">
 <strong data-start="372" data-end="400">Inhalte der Masterclass:</strong></
 p><ul data-start="402" data-end="747"><li class="" data-start="402" data-en
 d="531"><p class="" data-start="404" data-end="531"><strong data-start="404
 " data-end="426">Innovative Figuren</strong>&nbsp;– Gehen Sie über den klas
 sischen Ballonhund hinaus und gestalten Sie kreative, moderne Ballonkreatio
 nen.</p></li><li class="" data-start="532" data-end="631"><p class="" data-
 start="534" data-end="631"><strong data-start="534" data-end="554">Technik 
 &amp; Design</strong>&nbsp;– Meistern Sie fortgeschrittene Techniken und en
 twickeln Sie eigene Designs.</p></li><li class="" data-start="632" data-end
 ="747"><p class="" data-start="634" data-end="747"><strong data-start="634"
  data-end="655">Performance-Tipps</strong>&nbsp;– Lernen Sie, wie Sie Ihre 
 Ballonkunst effektvoll präsentieren und Ihr Publikum begeistern.</p></li></
 ul><p class="" data-start="749" data-end="762"><strong data-start="749" dat
 a-end="762">Material:</strong></p><p class="" data-start="764" data-end="86
 0">Alles, was Sie brauchen, wird gestellt – Sie können sich also voll und g
 anz auf das Lernen konzentrieren.</p><p class="" data-start="862" data-end=
 "874"><strong data-start="862" data-end="874">Für wen ist diese MasterClass
  geeignet?<br /></strong>Diese Masterclass richtet sich an alle, die ihre F
 ähigkeiten im Ballonmodellieren erweitern möchten.<br />Grundkenntisse in d
 er Ballonmodellierung müssen vorhanden sein.</p><p><strong>TeilnehmerInnen:
 </strong>&nbsp;max. 12</p><p><strong>Kosten:</strong>&nbsp;160€ (inkl. Mate
 rial)</p><p><strong>Anmeldung:</strong>&nbsp;<joomla-hidden-mail  is-link="
 1" is-email="1" first="ZWxpc2E=" last="emF1YmVyYWthZGVtaWUuY29t" text="ZWxp
 c2FAemF1YmVyYWthZGVtaWUuY29t" base="" >Diese E-Mail-Adresse ist vor Spambot
 s geschützt! Zur Anzeige muss JavaScript eingeschaltet sein.</joomla-hidden
 -mail></p>
DTSTAMP:20260423T184034
DTSTART:20270314T120000
DTEND:20270314T170000
SEQUENCE:0
TRANSP:OPAQUE
END:VEVENT
END:VCALENDAR