BEGIN:VCALENDAR
VERSION:2.0
PRODID:-//jEvents 2.0 for Joomla//EN
CALSCALE:GREGORIAN
METHOD:PUBLISH
BEGIN:VEVENT
UID:0738ce5d4af95fb75221e988aaa6128d
CATEGORIES:Focus Sessions
CREATED:20250722T222649
SUMMARY:Memo Deck Magic
LOCATION:Grünwald
DESCRIPTION:<p><strong>Dozent:</strong> Markus Laymann</p><p>Wer ein Memo-Stack - egal 
 ob Tamariz, Aronson oder ein anderes -beherrscht, kann mit jedem beliebigen
  Kartenspiel wahre Wunder vollbringen. In dieser Focus Session wird das nöt
 ige Wissen vermittelt, um ein Memodeck möglichst effektvoll und gewinnbring
 end einzusetzen. Wir beschäftigen uns u.a. mit Kartenspielaustausch, Falsch
 misch-Techniken, Übungstechniken für das Stack, Übertragung des Memodeck-K
 onzepts auf andere Einsatzbereiche und effektvolle Routinen. Bitte beachten
 : Die Session richtet sich in erster Linie an Personen, die bereits ein Sta
 ck beherrschen; wer noch keines kann/kennt, dem sei vorab der Besuch der Ma
 sterclass „Memotechnik“ am 21. März 2026 empfohlen.</p><p><strong>Kosten:</
 strong> 50€</p><p><strong>Anmeldung:</strong>&nbsp;<joomla-hidden-mail  is-
 link="1" is-email="1" first="ZWxpc2E=" last="emF1YmVyYWthZGVtaWUuY29t" text
 ="ZWxpc2FAemF1YmVyYWthZGVtaWUuY29t" base="" >Diese E-Mail-Adresse ist vor S
 pambots geschützt! Zur Anzeige muss JavaScript eingeschaltet sein.</joomla-
 hidden-mail></p>
DTSTAMP:20260421T093941
DTSTART:20260422T170000
DTEND:20260422T190000
SEQUENCE:0
TRANSP:OPAQUE
END:VEVENT
END:VCALENDAR