BEGIN:VCALENDAR
VERSION:2.0
PRODID:-//jEvents 2.0 for Joomla//EN
CALSCALE:GREGORIAN
METHOD:PUBLISH
BEGIN:VEVENT
UID:7ffd418a329d25f60444bb6318d28d05
CATEGORIES:Kinderkurse
CREATED:20250403T125602
SUMMARY:Zauberkurs Kinder Modul B (3 Tage)
LOCATION:ZAD Studio\, 82031 Grünwald
DESCRIPTION:BEREITS AUSGEBUCHT!\nKinderkurs Modul B - Anfänger bis FortgeschritteneAlte
 r: 7 bis 12 Jahre Die Kinderkurse sind im Modulsystem aufgebaut.Einzelne Mo
 dule können in beliebiger Reihenfolge belegt werden und geben einen Hinweis
 , welche Kurse bereits besucht wurden.Inkl. Material und Skript.\nKosten: 1
 95 €\nAnmeldung: Diese E-Mail-Adresse ist vor Spambots geschützt! Zur Anzei
 ge muss JavaScript eingeschaltet sein.\n
X-ALT-DESC;FMTTYPE=text/html:<p><strong><span style="color: #ff0000;">BEREITS AUSGEBUCHT!</span></strong
 ></p><div>Kinderkurs Modul B - Anfänger bis Fortgeschrittene</div><div>Alte
 r: 7 bis 12 Jahre</div><div>&nbsp;</div><div>Die Kinderkurse sind im Moduls
 ystem aufgebaut.</div><div>Einzelne Module können in beliebiger Reihenfolge
  belegt werden und geben einen Hinweis, welche Kurse bereits besucht wurden
 .</div><p>Inkl. Material und Skript.</p><p><strong>Kosten:</strong>&nbsp;19
 5 €</p><p><strong>Anmeldung:</strong> <joomla-hidden-mail  is-link="1" is-e
 mail="1" first="aW5mbw==" last="emF1YmVyYWthZGVtaWUuY29t" text="aW5mb0B6YXV
 iZXJha2FkZW1pZS5jb20=" base="" >Diese E-Mail-Adresse ist vor Spambots gesch
 ützt! Zur Anzeige muss JavaScript eingeschaltet sein.</joomla-hidden-mail><
 /p>
DTSTAMP:20260423T160309
DTSTART:20251104T080000
DTEND:20251106T110000
SEQUENCE:0
TRANSP:OPAQUE
END:VEVENT
END:VCALENDAR