BEGIN:VCALENDAR
VERSION:2.0
PRODID:-//jEvents 2.0 for Joomla//EN
CALSCALE:GREGORIAN
METHOD:PUBLISH
BEGIN:VEVENT
UID:f07c194f30b22b8812ba21e5ef2d5def
CATEGORIES:Focus Sessions
CREATED:20250403T120826
SUMMARY:Tontechnik & Musikschnitt
LOCATION:Grünwald
DESCRIPTION:Dozenten: Thomas Hartl &amp; Michael Wax\nWie plane ich einen komplizierten
  Musikschnitt? Wie stelle ich sicher, dass Effekte, Tricktechnik, Musik und
  evtl. Text eine Einheit bilden? Und auf was muss ich beim Einrichten, Soun
 dcheck und beim Kauf von Mikrofonen, Lautsprechern, etc. achten? Anhand von
  konkreten Beispielen zeigen wir potentielle  Stolpersteine, simple Lösunge
 n und schnelle Rettungs-maßnahmen. Egal ob für die eigene Technik oder die 
 alte Anlage, die man bei manchen Auftritten vorgesetzt bekommt.  Schließlic
 h wollen wir nicht nur visuell sondern auch akustisch verzaubern.\nKosten: 
 50€\nAnmeldung: Diese E-Mail-Adresse ist vor Spambots geschützt! Zur Anzeig
 e muss JavaScript eingeschaltet sein.\n
X-ALT-DESC;FMTTYPE=text/html:<p><strong>Dozenten:</strong> Thomas Hartl &amp; Michael Wax</p><p>Wie plan
 e ich einen komplizierten Musikschnitt? Wie stelle ich sicher, dass Effekte
 , Tricktechnik, Musik und evtl. Text eine Einheit bilden? Und auf was muss 
 ich beim Einrichten, Soundcheck und beim Kauf von Mikrofonen, Lautsprechern
 , etc. achten? Anhand von konkreten Beispielen zeigen wir potentielle&nbsp;
  Stolpersteine, simple Lösungen und schnelle Rettungs-maßnahmen. Egal ob fü
 r die eigene Technik oder die alte Anlage, die man bei manchen Auftritten v
 orgesetzt bekommt.&nbsp; Schließlich wollen wir nicht nur visuell sondern a
 uch akustisch verzaubern.</p><p><strong>Kosten:</strong> 50€</p><p><strong>
 Anmeldung:</strong> <joomla-hidden-mail  is-link="1" is-email="1" first="aW
 5mbw==" last="emF1YmVyYWthZGVtaWUuY29t" text="aW5mb0B6YXViZXJha2FkZW1pZS5jb
 20=" base="" >Diese E-Mail-Adresse ist vor Spambots geschützt! Zur Anzeige 
 muss JavaScript eingeschaltet sein.</joomla-hidden-mail></p>
DTSTAMP:20260423T160320
DTSTART:20251114T180000
DTEND:20251114T200000
SEQUENCE:0
TRANSP:OPAQUE
END:VEVENT
END:VCALENDAR