BEGIN:VCALENDAR
VERSION:2.0
PRODID:-//jEvents 2.0 for Joomla//EN
CALSCALE:GREGORIAN
METHOD:PUBLISH
BEGIN:VEVENT
UID:51f1bde4d9d4dcf69668aa615f863bb8
CATEGORIES:Focus Sessions
CREATED:20250403T120707
SUMMARY:Von der Idee zum Bühnenbild
LOCATION:ZAD Studio\, 82031 Grünwald
DESCRIPTION:<p><strong>Dozent:</strong> Tobias Herzog</p><p>Tobias ist Abteilungsleiter
  der Tapeziererei (Requisite) an den Münchner Kammerspielen. Am Anfang jede
 s Konstruktionsprozesses steht eine Idee, gepaart mit zusätzlichen Herausfo
 rderungen wie Zerlegbarkeit, Transportierbarkeit oder der Nachahmung von sc
 hweren/ungeeigneten Materialien. Über allem natürlich immer die Frage des B
 udgets – welche oft nur mit viel Kreativität beantwortet werden kann. Gerne
  geht Tobias am Ende auf akute Fragen ein und gibt Tipps für das weitere Vo
 rgehen.</p><p>Diese Focus Session ist für alle Level und Sparten geeignet, 
 nicht nur für Zauberkünstler.</p><p><strong>Kosten:</strong>&nbsp;60€</p><p
 ><strong>Anmeldung:</strong>&nbsp;<joomla-hidden-mail  is-link="1" is-email
 ="1" first="ZWxpc2E=" last="emF1YmVyYWthZGVtaWUuY29t" text="ZWxpc2FAemF1YmV
 yYWthZGVtaWUuY29t" base="" >Diese E-Mail-Adresse ist vor Spambots geschützt
 ! Zur Anzeige muss JavaScript eingeschaltet sein.</joomla-hidden-mail></p>
DTSTAMP:20260423T161242
DTSTART:20270303T180000
DTEND:20270303T200000
SEQUENCE:0
TRANSP:OPAQUE
END:VEVENT
END:VCALENDAR